BEGIN:VCALENDAR
VERSION:2.0
PRODID:-//Publishing Professionals Network - ECPv6.15.20//NONSGML v1.0//EN
CALSCALE:GREGORIAN
METHOD:PUBLISH
X-WR-CALNAME:Publishing Professionals Network
X-ORIGINAL-URL:https://pubpronetwork.org
X-WR-CALDESC:Events for Publishing Professionals Network
REFRESH-INTERVAL;VALUE=DURATION:PT1H
X-Robots-Tag:noindex
X-PUBLISHED-TTL:PT1H
BEGIN:VTIMEZONE
TZID:America/Los_Angeles
BEGIN:DAYLIGHT
TZOFFSETFROM:-0800
TZOFFSETTO:-0700
TZNAME:PDT
DTSTART:20240310T100000
END:DAYLIGHT
BEGIN:STANDARD
TZOFFSETFROM:-0700
TZOFFSETTO:-0800
TZNAME:PST
DTSTART:20241103T090000
END:STANDARD
BEGIN:DAYLIGHT
TZOFFSETFROM:-0800
TZOFFSETTO:-0700
TZNAME:PDT
DTSTART:20250309T100000
END:DAYLIGHT
BEGIN:STANDARD
TZOFFSETFROM:-0700
TZOFFSETTO:-0800
TZNAME:PST
DTSTART:20251102T090000
END:STANDARD
BEGIN:DAYLIGHT
TZOFFSETFROM:-0800
TZOFFSETTO:-0700
TZNAME:PDT
DTSTART:20260308T100000
END:DAYLIGHT
BEGIN:STANDARD
TZOFFSETFROM:-0700
TZOFFSETTO:-0800
TZNAME:PST
DTSTART:20261101T090000
END:STANDARD
END:VTIMEZONE
BEGIN:VEVENT
DTSTART;TZID=America/Los_Angeles:20250911T170000
DTEND;TZID=America/Los_Angeles:20250911T190000
DTSTAMP:20260422T085801
CREATED:20250902T214202Z
LAST-MODIFIED:20250902T214352Z
UID:10001305-1757610000-1757617200@pubpronetwork.org
SUMMARY:BISG West Coast: San Francisco
DESCRIPTION:The Book Industry Study Group is coming to the Bay Area!\nThis September\, BISG is bringing its mission and expertise to the West Coast.\nJoin us for a gathering designed to connect publishing professionals across the publishing supply chain. \nWhat to Expect: \n\n\nWelcome & Introductions \n\n\nIndustry Programming: conversations on pressing topics like supply chain\, metadata\, rights\, sustainability\, and more. We’ll hear from: \n\nErich van Rijn\, Executive Director\, University of California Press\nPamela Malpas\, Literary Agent\, Jennifer Lyons Literary Agency; and member of BISG’s Rights Committee\nPete Mulvihill\, Co-Owner\, Green Apple Books\nand more to be announced\n\n\n\nNetworking and Meet & Greet \n\n\nWho Should Attend: Publishers (trade\, academic\, indie)\, printers\, manufacturers\, libraries\, distributors\, retailers\, technology providers\, industry nonprofits\, and publishing education partners. \nThis is your chance to connect with colleagues\, share ideas\, and learn how BISG is driving industry standards and solutions that benefit us all. Let’s build stronger connections\, spark new ideas\, and work together on the future of publishing! \nPlease register to attend and please share with your publishing colleagues! \nLight refreshments will be served.
URL:https://pubpronetwork.org/event/bisg-west-coast-san-francisco/
LOCATION:American Bookbinders Museum
CATEGORIES:Professional Development
ATTACH;FMTTYPE=image/jpeg:https://pubpronetwork.org/wp-content/uploads/2025/09/american-bookbinders-museum-san-francisco-4.jpg
END:VEVENT
END:VCALENDAR