BEGIN:VCALENDAR
VERSION:2.0
PRODID:-//Publishing Professionals Network - ECPv6.15.20//NONSGML v1.0//EN
CALSCALE:GREGORIAN
METHOD:PUBLISH
X-ORIGINAL-URL:https://pubpronetwork.org
X-WR-CALDESC:Events for Publishing Professionals Network
REFRESH-INTERVAL;VALUE=DURATION:PT1H
X-Robots-Tag:noindex
X-PUBLISHED-TTL:PT1H
BEGIN:VTIMEZONE
TZID:America/Los_Angeles
BEGIN:DAYLIGHT
TZOFFSETFROM:-0800
TZOFFSETTO:-0700
TZNAME:PDT
DTSTART:20210314T100000
END:DAYLIGHT
BEGIN:STANDARD
TZOFFSETFROM:-0700
TZOFFSETTO:-0800
TZNAME:PST
DTSTART:20211107T090000
END:STANDARD
BEGIN:DAYLIGHT
TZOFFSETFROM:-0800
TZOFFSETTO:-0700
TZNAME:PDT
DTSTART:20220313T100000
END:DAYLIGHT
BEGIN:STANDARD
TZOFFSETFROM:-0700
TZOFFSETTO:-0800
TZNAME:PST
DTSTART:20221106T090000
END:STANDARD
BEGIN:DAYLIGHT
TZOFFSETFROM:-0800
TZOFFSETTO:-0700
TZNAME:PDT
DTSTART:20230312T100000
END:DAYLIGHT
BEGIN:STANDARD
TZOFFSETFROM:-0700
TZOFFSETTO:-0800
TZNAME:PST
DTSTART:20231105T090000
END:STANDARD
BEGIN:DAYLIGHT
TZOFFSETFROM:-0800
TZOFFSETTO:-0700
TZNAME:PDT
DTSTART:20240310T100000
END:DAYLIGHT
BEGIN:STANDARD
TZOFFSETFROM:-0700
TZOFFSETTO:-0800
TZNAME:PST
DTSTART:20241103T090000
END:STANDARD
END:VTIMEZONE
BEGIN:VTIMEZONE
TZID:UTC
BEGIN:STANDARD
TZOFFSETFROM:+0000
TZOFFSETTO:+0000
TZNAME:UTC
DTSTART:20210101T000000
END:STANDARD
END:VTIMEZONE
BEGIN:VEVENT
DTSTART;VALUE=DATE:20220910
DTEND;VALUE=DATE:20221231
DTSTAMP:20260424T111138
CREATED:20221123T170220Z
LAST-MODIFIED:20221123T170221Z
UID:10000404-1662768000-1672444799@pubpronetwork.org
SUMMARY:Ex Libris: The Art of Contemporary World Bookplates
DESCRIPTION:Exhibit at the American Bookbinders Museum.
URL:https://pubpronetwork.org/event/ex-libris-the-art-of-contemporary-world-bookplates/
LOCATION:American Bookbinders Museum
CATEGORIES:Bookbinders
END:VEVENT
BEGIN:VEVENT
DTSTART;VALUE=DATE:20220927
DTEND;VALUE=DATE:20230113
DTSTAMP:20260424T111138
CREATED:20221206T202706Z
LAST-MODIFIED:20221206T202707Z
UID:10000418-1664236800-1673567999@pubpronetwork.org
SUMMARY:Submissions for PhotoBookWorks 2023 now open
DESCRIPTION:This international\, juried exhibition will be held March 2-26\, 2023 at Spark North Gallery in Denver’s thriving Santa Fe Art District. It is part of a statewide\, bi-annual Month of Photography celebration. \nThe deadline to submit is January 12\, 2023. Selections will be made by Gregory Roybl\, Curator\, Special & Distinct Collections\, University of Colorado Libraries and Alicia Bailey\, Director\, Abecedarian Artists’ Books. \nEligible are any hand-crafted bookworks (editioned or unique) that feature photography as primarily element. Photographs may be digital but commercially printed works won’t be accepted into this show.
URL:https://pubpronetwork.org/event/submissions-for-photobookworks-2023-now-open/
END:VEVENT
BEGIN:VEVENT
DTSTART;VALUE=DATE:20221026
DTEND;VALUE=DATE:20230113
DTSTAMP:20260424T111138
CREATED:20221123T171108Z
LAST-MODIFIED:20221123T171108Z
UID:10000405-1666742400-1673567999@pubpronetwork.org
SUMMARY:Exhibit: Cognitive Distance--The Bookworks and Thoughtforms of Timothy Ely
DESCRIPTION:Compelling\, contemplative\, and visionary: these are words that have been used to describe the work of artist and bookbinder Timothy C. Ely. Showcasing approximately forty manuscript books\, drawings and prints created by Ely over the past fifty years\, Cognitive Distance: the Bookworks and Thoughtforms of Timothy C. Ely introduces gallery visitors to Ely’s extraordinary version of world-building. Drawing from traditional fine binding\, printmaking\, and manuscript books\, Timothy C. Ely has developed his own hybrid ways of creating work\, all the while remaining true to his artistic vision. The techniques and materials of fine bookbinding are immediately apparent in his work; by pushing these traditional aspects in new directions\, the resulting works inspire and astonish.
URL:https://pubpronetwork.org/event/exhibit-cognitive-distance-the-bookworks-and-thoughtforms-of-timothy-ely/
LOCATION:San Francisco Center for the Book\, 375 Rhode Island Street\, San Francisco\, CA\, 94103\, United States
CATEGORIES:Bookbinders,SFCB
ORGANIZER;CN="San Francisco Center for the Book":MAILTO:info@sfcb.org
END:VEVENT
BEGIN:VEVENT
DTSTART;VALUE=DATE:20221206
DTEND;VALUE=DATE:20230301
DTSTAMP:20260424T111138
CREATED:20221206T201606Z
LAST-MODIFIED:20230224T175213Z
UID:10000416-1670284800-1677628799@pubpronetwork.org
SUMMARY:The Perfect Binding: pre-recorded workshop
DESCRIPTION:The Book Arts Program at the University of Utah has a pre-recorded workshop available for purchase for those interested in learning about perfect binding. \nLooking for a simple way to bind single sheets or folios? This workshop presents the perfect solution: the perfect binding! Using a modified approach based on machine binding processes for commercial paperbacks\, the instructor guides participants through the construction of a perfect-bound book. A materials kit is provided for a single book and participants are advised on tools to gather or purchase. Leave with a perfect book and the ability to continue the practice. \nThe cost includes materials kit & shipping. This fee is non-refundable and is required in order to receive the recording and materials kit.  \nPLEASE NOTE: International shipping will be billed an additional $25 once registration is confirmed.
URL:https://pubpronetwork.org/event/the-perfect-binding-pre-recorded-workshop/
LOCATION:Zoom\, CA\, United States
CATEGORIES:Bookbinders,Professional Development
END:VEVENT
BEGIN:VEVENT
DTSTART;TZID=America/Los_Angeles:20221211T100000
DTEND;TZID=America/Los_Angeles:20221211T130000
DTSTAMP:20260424T111138
CREATED:20221209T174539Z
LAST-MODIFIED:20221209T174541Z
UID:10000439-1670752800-1670763600@pubpronetwork.org
SUMMARY:Writing with constraints: Free your creativity
DESCRIPTION:With Kimberly Lee\n\nFor a creative twist\, some prose writers impose unique conditions on their work as they craft a piece. Dr. Seuss wrote Green Eggs and Ham on a bet: that he couldn’t write an entire book using only 50 words. Here’s another dare: Write about a trek through the desert without using the words “sand\,” “cactus\,” “water\,” “sun\,” and “heat.”\n  \nChallenging ourselves in this fun way can have an oddly liberating effect\, leading to rich\, resonant writing. In this generative workshop\, we’ll look at examples by writers who use these techniques\, then engage with inventive writing exercises\, freeing our own imaginations. We’ll be surprised by the ideas that spring forth—and thrilled with the original results! The workshop will include a taste of SoulCollage®\, an expressive arts method through which we’ll use creative constraints to make collages\, then write about them using specified prompts.\nAccess Program\nWe want our writing classes and Delves to be accessible to everyone\, regardless of income and background. We understand that our tuition structure can present obstacles for some people. Our Access Program offers writing class and Delve tuitions at a reduced rate. The access program for writing classes covers 60% of the class tuition. Most writing classes have at least one access spot available.
URL:https://pubpronetwork.org/event/writing-with-constraints-free-your-creativity/
LOCATION:Zoom\, CA\, United States
CATEGORIES:Author Events,Professional Development
END:VEVENT
BEGIN:VEVENT
DTSTART;TZID=America/Los_Angeles:20221211T123000
DTEND;TZID=America/Los_Angeles:20221211T153000
DTSTAMP:20260424T111138
CREATED:20221123T205537Z
LAST-MODIFIED:20221123T205538Z
UID:10000409-1670761800-1670772600@pubpronetwork.org
SUMMARY:Bay Area Book Artists (BABA) session
DESCRIPTION:The BABA Sunday Session is a hands-on workshop led by a BABA member\, usually on the first Sunday of the month from noon to 4 pm. A minimal fee (usually between $10-$25) covers instructor’s prep and materials and a contribution to BABA. \nA gathering of BABA members to show their work for the year\, bring their metal book in a container\, exchange of decorated papers\, book exchange of any size. \nBay Area Book Artists is a group of independent artists bound together by a passion for the book arts and an all-volunteer organization run by the energy and generosity of our members. There is no fee for membership. We ask only that you volunteer in some capacity to help in the ongoing operation of the organization.
URL:https://pubpronetwork.org/event/bay-area-book-artists-baba-session-2/
LOCATION:Veterans Memorial Senior Center\, 1455 Madison Ave\, Redwood City\, CA\, 94061\, United States
CATEGORIES:Author Events,BABA Events
END:VEVENT
BEGIN:VEVENT
DTSTART;TZID=UTC:20221211T140000
DTEND;TZID=UTC:20221211T150000
DTSTAMP:20260424T111138
CREATED:20221110T001629Z
LAST-MODIFIED:20221209T165802Z
UID:10000402-1670767200-1670770800@pubpronetwork.org
SUMMARY:Hand Bookbinders of California Gallery Tour
DESCRIPTION:Enjoy a gallery tour of the HBC50 exhibition with master bookbinders: Dominic Riley\, Michael Burke and Coleen Curry. \n\n\nSkylight Gallery – 6th Floor\n\n\n\n\nSan Francisco Main Library
URL:https://pubpronetwork.org/event/hand-bookbinders-of-california-gallery-tour/
LOCATION:San Francisco Public Library Book Arts\, 100 Larkin Street\, San Francisco\, CA\, 94102\, United States
CATEGORIES:Bookbinders,Events
END:VEVENT
BEGIN:VEVENT
DTSTART;TZID=America/Los_Angeles:20221212T120000
DTEND;TZID=America/Los_Angeles:20221212T130000
DTSTAMP:20260424T111138
CREATED:20221206T225257Z
LAST-MODIFIED:20221209T165914Z
UID:10000423-1670846400-1670850000@pubpronetwork.org
SUMMARY:Editors of Color Coffee Hour
DESCRIPTION:Are you an Editor of Color? Would you like to meet up with your fellow Editors of Color in a welcoming\, intimate\, online setting? \nJesi Vega\, recent president of the Northwest Editors Guild and a Puerto Rican Jew from the Bronx\, hosts a monthly Zoom coffee hour for editors who identify as Black\, Indigenous\, or Person of Color (BIPOC\, bitches!). \nDuring this virtual coffee hour — open to both Guild members and non-members — we will share experiences\, explore the possibilities of a more diverse\, inclusive\, and equitable editing profession\, get to know each other better and\, likely\, laugh a lot. \nPlease spread the word to any Editors of Color you know. This is a rare opportunity to build community for our underrepresented group and we want to spread the word. \nNote: Registration will close at 8 p.m. PST on the day prior to the meeting. Members will still be able to find the Zoom info at the above link.
URL:https://pubpronetwork.org/event/editors-of-color-coffee-hour/
LOCATION:Zoom\, CA\, United States
CATEGORIES:Editors Events,Meet-up
END:VEVENT
BEGIN:VEVENT
DTSTART;TZID=America/Los_Angeles:20221212T180000
DTEND;TZID=America/Los_Angeles:20221212T193000
DTSTAMP:20260424T111138
CREATED:20221206T202244Z
LAST-MODIFIED:20221206T202245Z
UID:10000417-1670868000-1670873400@pubpronetwork.org
SUMMARY:The Surprising Legacy of Alice Parsons Millard: Antiquarian Bookseller & Champion of Beauty and Taste
DESCRIPTION:Book trade historian Charles Nelson Johnson provides a fresh look at lesser-known Southern California antiquarian bookseller Alice Parsons Millard (1873-1938)—a role she inherited as much as chose—and her activities as she courageously maneuvered her way through the decidedly male dominated trade in 1920s-1930s Europe and the United States; her personal challenges\, creative business innovations and impact on numerous high profile clients\, and her surprising California legacy. \nAn in-person and virtual presentation by Charles Nelson Johnson\, author\, historical consultant\, and retired research librarian. \n\nSee the link for details about in-person\, virtual\, and 3 separate dates for this event.
URL:https://pubpronetwork.org/event/the-surprising-legacy-of-alice-parsons-millard-antiquarian-bookseller-champion-of-beauty-and-taste/
LOCATION:Book Club of California
CATEGORIES:Book Club CA
END:VEVENT
BEGIN:VEVENT
DTSTART;TZID=America/Los_Angeles:20221213T170000
DTEND;TZID=America/Los_Angeles:20221213T183000
DTSTAMP:20260424T111138
CREATED:20221206T225522Z
LAST-MODIFIED:20221209T170157Z
UID:10000424-1670950800-1670956200@pubpronetwork.org
SUMMARY:Developmental Editing Happy Hour
DESCRIPTION:Are you a developmental editor\, or interested in developmental editing? Join us for an informal chat about this fun and fascinating variety of editing. \nThis event is free to attend and open to all editors. \nThe host is Rudy Leon. \nNote: Registration will close at 8 p.m. PST on the day before the meeting. Members will still be able to find the Zoom info at the above link.
URL:https://pubpronetwork.org/event/developmental-editing-happy-hour/
LOCATION:Zoom\, CA\, United States
CATEGORIES:Editors Events,Meet-up
END:VEVENT
BEGIN:VEVENT
DTSTART;TZID=America/Los_Angeles:20221214T110000
DTEND;TZID=America/Los_Angeles:20221214T130000
DTSTAMP:20260424T111138
CREATED:20221206T233847Z
LAST-MODIFIED:20221206T233848Z
UID:10000431-1671015600-1671022800@pubpronetwork.org
SUMMARY:PubWest Publishers Roundtable
DESCRIPTION:We are excited to bring back monthly Publishers Roundtables\, designed to offer a chance to engage in open-forum discussions on the ever-changing landscape of publishing. Everyone is welcome\, including publishers\, associates\, and staff at all levels. Please note this PubWest session will not be recorded in order for participants to feel comfortable interacting openly and having frank discussions within the bounds of our conduct policies.
URL:https://pubpronetwork.org/event/pubwest-publishers-roundtable/
LOCATION:Zoom\, CA\, United States
CATEGORIES:Meet-up
END:VEVENT
BEGIN:VEVENT
DTSTART;TZID=America/Los_Angeles:20221214T110000
DTEND;TZID=America/Los_Angeles:20221214T130000
DTSTAMP:20260424T111138
CREATED:20221209T180915Z
LAST-MODIFIED:20221209T180916Z
UID:10000446-1671015600-1671022800@pubpronetwork.org
SUMMARY:PubWest Publishers Roundtable - December
DESCRIPTION:We are excited to bring back monthly Publishers Roundtables\, designed to offer a chance to engage in open-forum discussions on the ever-changing landscape of publishing. Everyone is welcome\, including publishers\, associates\, and staff at all levels. Please note this PubWest session will not be recorded in order for participants to feel comfortable interacting openly and having frank discussions within the bounds of our conduct policies.
URL:https://pubpronetwork.org/event/pubwest-publishers-roundtable-december/
LOCATION:Zoom\, CA\, United States
CATEGORIES:Meet-up
END:VEVENT
BEGIN:VEVENT
DTSTART;TZID=America/Los_Angeles:20221214T190000
DTEND;TZID=America/Los_Angeles:20221214T203000
DTSTAMP:20260424T111138
CREATED:20221208T233923Z
LAST-MODIFIED:20221208T233924Z
UID:10000432-1671044400-1671049800@pubpronetwork.org
SUMMARY:BABA Meeting
DESCRIPTION:Bay Area Book Artists is a group of independent artists bound together by a passion for the book arts and an all-volunteer organization run by the energy and generosity of our members. There is no fee for membership. We ask only that you volunteer in some capacity to help in the ongoing operation of the organization. \nKim leads the meeting. We’re meeting virtually on Zoom. Members share books\, work in progress and information about book events and resources.
URL:https://pubpronetwork.org/event/baba-meeting/
LOCATION:Zoom\, CA\, United States
CATEGORIES:BABA Meetings
END:VEVENT
BEGIN:VEVENT
DTSTART;TZID=America/Los_Angeles:20221215T153000
DTEND;TZID=America/Los_Angeles:20221215T183000
DTSTAMP:20260424T111138
CREATED:20221206T233551Z
LAST-MODIFIED:20221206T233553Z
UID:10000430-1671118200-1671129000@pubpronetwork.org
SUMMARY:What's New in InDesign 2023 (and Illy and PShop)
DESCRIPTION:Find out what’s new\, how features get added\, how you can make suggestions\, and the 411 on the guy that keeps the change database current \n  \n\n\n\n3:45-4:00 pm Pre-Presentation Networking\n\n\n4:00-5:45 pm Presentation\n\n\n\n\n\nIt’s December. Time for a look at what’s new and what’s changed in the latest version of InDesign. But as a mature program\, don’t expect a plethora of ground-breaking additions. But there are a few updates and this presentation will describe them. Plus this year\, we’re also going to take a look at what’s changed in those two InDesign plug-ins called Illustrator and Photoshop. \nBut there’s more. \nOur presenter\, James Wamser\, has kept track of every addition and every change to InDesign\, Illustrator\, and Photoshop since each of those programs were twinkles in the creators’ eyes. Can you imagine? He will take us back in time to how he got started and how he keeps track of all this information. He will also let you know how you can get FREE copies of the New Features Guides that catalog all the updates to the three programs. \nJames will also let you know how you can submit ideas for new features to Adobe engineers and how you can become part of the team that Beta tests new features. Don’t know a Beta test from an Alpha test? James will explain it to you. Finally\, he will gaze into the crystal ball and offer his take on what we might expect for InDesign 2024 and beyond.
URL:https://pubpronetwork.org/event/whats-new-in-indesign-2023-and-illy-and-pshop/
LOCATION:Zoom\, CA\, United States
CATEGORIES:Events,Professional Development
END:VEVENT
BEGIN:VEVENT
DTSTART;TZID=America/Los_Angeles:20221215T160000
DTEND;TZID=America/Los_Angeles:20221215T180000
DTSTAMP:20260424T111138
CREATED:20221116T032646Z
LAST-MODIFIED:20221116T032646Z
UID:10000403-1671120000-1671127200@pubpronetwork.org
SUMMARY:American Printing History Association's Annual Meeting and program
DESCRIPTION:You’re invited to the APHA NorCal chapter’s Annual Membership Meeting and program. We will be reviewing 2021\, electing officers\, and discussing goals for 2022. A presentation by special guest Ben Blount will follow the business meeting and is free and open to the general public. \nWhen: December 15th. Business meeting starts at 4 p.m. Blount’s presentation begins at 5 p.m. \nWhere: Zoom. Please register in advance to ensure you receive the link to attend. \nBen Blount is a Detroit-born artist\, designer\, and letterpress printer who loves books\, type\, and putting ink on paper. His work often explores questions of race and identity and the stories we tell ourselves about living in America. Ben is a believer in the power of the printed word and shares his passion by speaking to students and educators around the country. He serves on the boards of Artists Book House and Fine Press Book Association.
URL:https://pubpronetwork.org/event/american-printing-history-associations-annual-meeting-and-program/
LOCATION:Zoom\, CA\, United States
CATEGORIES:Events
END:VEVENT
BEGIN:VEVENT
DTSTART;TZID=America/Los_Angeles:20221215T163000
DTEND;TZID=America/Los_Angeles:20221215T183000
DTSTAMP:20260424T111138
CREATED:20221206T225820Z
LAST-MODIFIED:20221206T225821Z
UID:10000425-1671121800-1671129000@pubpronetwork.org
SUMMARY:Happy Hour Discussion: Copyediting and Proofreading Fiction
DESCRIPTION:If you copyedit or proofread fiction or want to learn more about doing so\, join host Erin Cusick for an informal discussion about the joys and challenges associated with editing fiction. Come prepared to share insights and experiences\, ask questions\, or just listen to learn from others. Though the event is open to all editors\, the discussion will stick closely to copyediting and proofreading. \nThis event is free to attend and open to all editors\, guests\, and/or members of related fields.
URL:https://pubpronetwork.org/event/happy-hour-discussion-copyediting-and-proofreading-fiction/
LOCATION:Zoom\, CA\, United States
CATEGORIES:Editors Events,Meet-up
END:VEVENT
BEGIN:VEVENT
DTSTART;TZID=America/Los_Angeles:20221215T173000
DTEND;TZID=America/Los_Angeles:20221215T183000
DTSTAMP:20260424T111138
CREATED:20220314T022701Z
LAST-MODIFIED:20230202T222212Z
UID:10000333-1671125400-1671129000@pubpronetwork.org
SUMMARY:PPN | Virtual Monthly Meetup
DESCRIPTION:Hosted/Organized by: PPN \nThis event is open to anyone in the book-publishing industry and provides a great opportunity for connection. Grab a drink and come and catch up\, share news\, and get advice. \nWe generally hold virtual meetups over Zoom on the third Thursday of each month\, not just because this is the safest way for us to gather but because it is a great way for us to meet no matter where we are located. We look forward to seeing you.
URL:https://pubpronetwork.org/event/ppn-virtual-monthly-meetup/2022-12-15/
LOCATION:Virtual\, Virtual
END:VEVENT
END:VCALENDAR