BEGIN:VCALENDAR
VERSION:2.0
PRODID:-//Publishing Professionals Network - ECPv6.15.20//NONSGML v1.0//EN
CALSCALE:GREGORIAN
METHOD:PUBLISH
X-WR-CALNAME:Publishing Professionals Network
X-ORIGINAL-URL:https://pubpronetwork.org
X-WR-CALDESC:Events for Publishing Professionals Network
REFRESH-INTERVAL;VALUE=DURATION:PT1H
X-Robots-Tag:noindex
X-PUBLISHED-TTL:PT1H
BEGIN:VTIMEZONE
TZID:America/Los_Angeles
BEGIN:DAYLIGHT
TZOFFSETFROM:-0800
TZOFFSETTO:-0700
TZNAME:PDT
DTSTART:20230312T100000
END:DAYLIGHT
BEGIN:STANDARD
TZOFFSETFROM:-0700
TZOFFSETTO:-0800
TZNAME:PST
DTSTART:20231105T090000
END:STANDARD
BEGIN:DAYLIGHT
TZOFFSETFROM:-0800
TZOFFSETTO:-0700
TZNAME:PDT
DTSTART:20240310T100000
END:DAYLIGHT
BEGIN:STANDARD
TZOFFSETFROM:-0700
TZOFFSETTO:-0800
TZNAME:PST
DTSTART:20241103T090000
END:STANDARD
BEGIN:DAYLIGHT
TZOFFSETFROM:-0800
TZOFFSETTO:-0700
TZNAME:PDT
DTSTART:20250309T100000
END:DAYLIGHT
BEGIN:STANDARD
TZOFFSETFROM:-0700
TZOFFSETTO:-0800
TZNAME:PST
DTSTART:20251102T090000
END:STANDARD
END:VTIMEZONE
BEGIN:VEVENT
DTSTART;TZID=America/Los_Angeles:20240925T103000
DTEND;TZID=America/Los_Angeles:20240925T120000
DTSTAMP:20260425T080532
CREATED:20240901T035957Z
LAST-MODIFIED:20240901T035959Z
UID:10001237-1727260200-1727265600@pubpronetwork.org
SUMMARY:Writing Concisely
DESCRIPTION:Want to get results with more powerful\, persuasive content and communications? This fun\, hands-on workshop will help you streamline the writing process\, steer clear of common pitfalls\, drive traffic and sales\, and meet deadlines and performance targets. \nYou’ll learn how to \n\nOrganize to save time and highlight main points\nUse fewer words to communicate your ideas\nAvoid jargon\, clichés\, weak verbs\, and bias so your message comes through loud and clear\nRevise like a pro\n\nPractice your new skills during the webinar using a detailed PDF handbook featuring an array of exercises\, tips\, and checklists.
URL:https://pubpronetwork.org/event/writing-concisely/
LOCATION:Zoom\, CA\, United States
CATEGORIES:Events
END:VEVENT
BEGIN:VEVENT
DTSTART;TZID=America/Los_Angeles:20240822T160000
DTEND;TZID=America/Los_Angeles:20240822T170000
DTSTAMP:20260425T080532
CREATED:20240805T052312Z
LAST-MODIFIED:20240805T052314Z
UID:10001200-1724342400-1724346000@pubpronetwork.org
SUMMARY:Ghostwriting: What It Is (and Isn’t)
DESCRIPTION:Course Description \nAccording to some publishing experts\, more than half of nonfiction books are written—in whole or in part—by ghostwriters. Although they live in the shadows of the publishing world\, anonymous and unacknowledged\, these skilled scribes often make a good living. But ghostwriting is not for everyone. Join Armin Brott for a presentation and Q&A about ghostwriting\, what it is\, what it is not\, and what it takes to do it successfully. \nInstructor Bio \nArmin Brott has written\, cowritten\, or ghostwritten more than 30 books. His own titles\, including The Expectant Father and The New Father: A Dad’s Guide to the First Year\, have sold more than 2 million copies. And many of the books he’s written for others (which\, of course\, he can’t name) have appeared on various bestseller lists\, including The New York Times.
URL:https://pubpronetwork.org/event/ghostwriting-what-it-is-and-isnt/
LOCATION:Zoom\, CA\, United States
CATEGORIES:Events
END:VEVENT
END:VCALENDAR