BEGIN:VCALENDAR
VERSION:2.0
PRODID:-//Publishing Professionals Network - ECPv6.15.20//NONSGML v1.0//EN
CALSCALE:GREGORIAN
METHOD:PUBLISH
X-ORIGINAL-URL:https://pubpronetwork.org
X-WR-CALDESC:Events for Publishing Professionals Network
REFRESH-INTERVAL;VALUE=DURATION:PT1H
X-Robots-Tag:noindex
X-PUBLISHED-TTL:PT1H
BEGIN:VTIMEZONE
TZID:America/Los_Angeles
BEGIN:DAYLIGHT
TZOFFSETFROM:-0800
TZOFFSETTO:-0700
TZNAME:PDT
DTSTART:20220313T100000
END:DAYLIGHT
BEGIN:STANDARD
TZOFFSETFROM:-0700
TZOFFSETTO:-0800
TZNAME:PST
DTSTART:20221106T090000
END:STANDARD
BEGIN:DAYLIGHT
TZOFFSETFROM:-0800
TZOFFSETTO:-0700
TZNAME:PDT
DTSTART:20230312T100000
END:DAYLIGHT
BEGIN:STANDARD
TZOFFSETFROM:-0700
TZOFFSETTO:-0800
TZNAME:PST
DTSTART:20231105T090000
END:STANDARD
BEGIN:DAYLIGHT
TZOFFSETFROM:-0800
TZOFFSETTO:-0700
TZNAME:PDT
DTSTART:20240310T100000
END:DAYLIGHT
BEGIN:STANDARD
TZOFFSETFROM:-0700
TZOFFSETTO:-0800
TZNAME:PST
DTSTART:20241103T090000
END:STANDARD
END:VTIMEZONE
BEGIN:VEVENT
DTSTART;VALUE=DATE:20230429
DTEND;VALUE=DATE:20230430
DTSTAMP:20260421T022217
CREATED:20230301T200322Z
LAST-MODIFIED:20230301T200323Z
UID:10000527-1682726400-1682812799@pubpronetwork.org
SUMMARY:Yallwest Santa Monica Book Festival
DESCRIPTION:Over 113 authors including New York Times Bestsellers along with local and acclaimed young adult and middle grade writers\, plus notable Hollywood directors and creators. \n2 days of panels\, book signings\, food trucks\, bad jokes\, rock ‘n’ roll\, killer photo ops & general geeky debauchery
URL:https://pubpronetwork.org/event/yallwest-santa-monica-book-festival/
LOCATION:Santa Monica High School
CATEGORIES:Author Events,Events
END:VEVENT
END:VCALENDAR