BEGIN:VCALENDAR
VERSION:2.0
PRODID:-//Publishing Professionals Network - ECPv6.15.20//NONSGML v1.0//EN
CALSCALE:GREGORIAN
METHOD:PUBLISH
X-WR-CALNAME:Publishing Professionals Network
X-ORIGINAL-URL:https://pubpronetwork.org
X-WR-CALDESC:Events for Publishing Professionals Network
REFRESH-INTERVAL;VALUE=DURATION:PT1H
X-Robots-Tag:noindex
X-PUBLISHED-TTL:PT1H
BEGIN:VTIMEZONE
TZID:America/Los_Angeles
BEGIN:DAYLIGHT
TZOFFSETFROM:-0800
TZOFFSETTO:-0700
TZNAME:PDT
DTSTART:20220313T100000
END:DAYLIGHT
BEGIN:STANDARD
TZOFFSETFROM:-0700
TZOFFSETTO:-0800
TZNAME:PST
DTSTART:20221106T090000
END:STANDARD
BEGIN:DAYLIGHT
TZOFFSETFROM:-0800
TZOFFSETTO:-0700
TZNAME:PDT
DTSTART:20230312T100000
END:DAYLIGHT
BEGIN:STANDARD
TZOFFSETFROM:-0700
TZOFFSETTO:-0800
TZNAME:PST
DTSTART:20231105T090000
END:STANDARD
BEGIN:DAYLIGHT
TZOFFSETFROM:-0800
TZOFFSETTO:-0700
TZNAME:PDT
DTSTART:20240310T100000
END:DAYLIGHT
BEGIN:STANDARD
TZOFFSETFROM:-0700
TZOFFSETTO:-0800
TZNAME:PST
DTSTART:20241103T090000
END:STANDARD
END:VTIMEZONE
BEGIN:VEVENT
DTSTART;TZID=America/Los_Angeles:20230401T190000
DTEND;TZID=America/Los_Angeles:20230401T210000
DTSTAMP:20260423T101059
CREATED:20230303T192719Z
LAST-MODIFIED:20230303T192721Z
UID:10000532-1680375600-1680382800@pubpronetwork.org
SUMMARY:Crying in H Mart: An Evening with Michelle Zauner and Soleil Ho
DESCRIPTION:Few writers have traced the sensuous connection between food and memory as powerfully as Michelle Zauner has done in her runaway hit memoir\, Crying in H Mart. Legions of readers have kept the book on the bestseller list for more than 60 weeks\, and for good reason. With breathtaking prose\, Zauner delves into the experience of food—our primal nourishment—and her biracial identity as a way of processing the painful loss of her mother. The New York Times calls Zauner’s memoir “an artistic triumph—artfully observed and emotionally rich.” \nZauner\, who is also a phenomenally successful indie musician performing under the band name Japanese Breakfast\, is no stranger to touring\, but the publication of her memoir early in the pandemic meant that she’s made almost no in-person appearances for her book—until now. \nIn celebration of the paperback release of Crying in H Mart\, the Bay Area Book Festival is honored to host Zauner’s only Bay Area book tour appearance this spring. She’ll be in conversation with San Francisco Chronicle restaurant critic Soleil Ho at Oakland’s gorgeous California Ballroom in what promises to be a wide-ranging discussion of love\, loss\, cultural identity\, the art of memoir writing\, and\, of course\, food.
URL:https://pubpronetwork.org/event/crying-in-h-mart-an-evening-with-michelle-zauner-and-soleil-ho/
LOCATION:The California Ballroom\, 1736 Franklin Street\, Oakland\, CA\, 94612\, United States
CATEGORIES:Author Events
END:VEVENT
END:VCALENDAR